Package: nullranges Version: 1.10.0 Command: rm -rf nullranges.buildbin-libdir && mkdir nullranges.buildbin-libdir && /Users/biocbuild/BBS/utils/build-universal.sh nullranges_1.10.0.tar.gz /Library/Frameworks/R.framework/Resources/bin/R nullranges.buildbin-libdir StartedAt: 2024-06-10 00:30:22 -0400 (Mon, 10 Jun 2024) EndedAt: 2024-06-10 00:31:15 -0400 (Mon, 10 Jun 2024) EllapsedTime: 53.2 seconds RetCode: 0 Status: OK PackageFile: nullranges_1.10.0.tgz PackageFileSize: 5.02 MiB