Package: nullranges Version: 1.10.0 Command: /home/biocbuild/R/R-beta-2024-04-15_r86425/bin/R CMD build --keep-empty-dirs --no-resave-data nullranges StartedAt: 2024-05-09 02:10:50 -0000 (Thu, 09 May 2024) EndedAt: 2024-05-09 02:15:14 -0000 (Thu, 09 May 2024) EllapsedTime: 264.5 seconds RetCode: 0 Status: OK PackageFile: nullranges_1.10.0.tar.gz PackageFileSize: 4.465 MiB