Package: nullranges Version: 1.10.0 Command: /Library/Frameworks/R.framework/Resources/bin/R CMD INSTALL nullranges StartedAt: 2024-06-09 15:44:12 -0400 (Sun, 09 Jun 2024) EndedAt: 2024-06-09 15:45:09 -0400 (Sun, 09 Jun 2024) EllapsedTime: 57.4 seconds RetCode: 0 Status: OK