Package: nucleoSim Version: 1.32.0 Command: rm -rf nucleoSim.buildbin-libdir && mkdir nucleoSim.buildbin-libdir && E:\biocbuild\bbs-3.19-bioc\R\bin\R.exe CMD INSTALL --build --library=nucleoSim.buildbin-libdir nucleoSim_1.32.0.tar.gz StartedAt: 2024-10-17 08:16:32 -0400 (Thu, 17 Oct 2024) EndedAt: 2024-10-17 08:16:46 -0400 (Thu, 17 Oct 2024) EllapsedTime: 13.7 seconds RetCode: 0 Status: OK PackageFile: nucleoSim_1.32.0.zip PackageFileSize: 339.7 KiB