Package: nucleoSim Version: 1.32.0 Command: /Library/Frameworks/R.framework/Resources/bin/R CMD check --install=check:nucleoSim.install-out.txt --library=/Library/Frameworks/R.framework/Resources/library --no-vignettes --timings nucleoSim_1.32.0.tar.gz StartedAt: 2024-10-17 10:10:33 -0400 (Thu, 17 Oct 2024) EndedAt: 2024-10-17 10:12:40 -0400 (Thu, 17 Oct 2024) EllapsedTime: 126.6 seconds RetCode: 0 Status: OK CheckDir: nucleoSim.Rcheck Warnings: 0