Package: nucleoSim Version: 1.32.0 Command: /Library/Frameworks/R.framework/Resources/bin/R CMD INSTALL nucleoSim StartedAt: 2024-10-16 15:41:31 -0400 (Wed, 16 Oct 2024) EndedAt: 2024-10-16 15:41:39 -0400 (Wed, 16 Oct 2024) EllapsedTime: 8.4 seconds RetCode: 0 Status: OK