Package: nucleoSim Version: 1.32.0 Command: /Library/Frameworks/R.framework/Resources/bin/R CMD check --install=check:nucleoSim.install-out.txt --library=/Library/Frameworks/R.framework/Resources/library --no-vignettes --timings nucleoSim_1.32.0.tar.gz StartedAt: 2024-10-18 06:12:56 -0400 (Fri, 18 Oct 2024) EndedAt: 2024-10-18 06:14:03 -0400 (Fri, 18 Oct 2024) EllapsedTime: 66.6 seconds RetCode: 0 Status: OK CheckDir: nucleoSim.Rcheck Warnings: 0