Package: nucleR Version: 2.36.0 Command: E:\biocbuild\bbs-3.19-bioc\R\bin\R.exe CMD check --no-multiarch --install=check:nucleR.install-out.txt --library=E:\biocbuild\bbs-3.19-bioc\R\library --no-vignettes --timings nucleR_2.36.0.tar.gz StartedAt: 2024-10-17 04:02:20 -0400 (Thu, 17 Oct 2024) EndedAt: 2024-10-17 04:07:37 -0400 (Thu, 17 Oct 2024) EllapsedTime: 316.8 seconds RetCode: 0 Status: WARNINGS CheckDir: nucleR.Rcheck Warnings: 1