Package: nucleR Version: 2.36.0 Command: chmod a+r nucleR -R && F:\biocbuild\bbs-3.19-bioc\R\bin\R.exe CMD build --keep-empty-dirs --no-resave-data nucleR StartedAt: 2024-06-26 20:33:17 -0400 (Wed, 26 Jun 2024) EndedAt: 2024-06-26 20:34:36 -0400 (Wed, 26 Jun 2024) EllapsedTime: 79.2 seconds RetCode: 0 Status: OK PackageFile: nucleR_2.36.0.tar.gz PackageFileSize: 1.177 MiB