Package: nucleR Version: 2.36.0 Command: rm -rf nucleR.buildbin-libdir && mkdir nucleR.buildbin-libdir && F:\biocbuild\bbs-3.19-bioc\R\bin\R.exe CMD INSTALL --build --library=nucleR.buildbin-libdir nucleR_2.36.0.tar.gz StartedAt: 2024-06-27 08:36:36 -0400 (Thu, 27 Jun 2024) EndedAt: 2024-06-27 08:37:18 -0400 (Thu, 27 Jun 2024) EllapsedTime: 42.9 seconds RetCode: 0 Status: OK PackageFile: nucleR_2.36.0.zip PackageFileSize: 1.288 MiB