Package: nucleR Version: 2.36.0 Command: /home/biocbuild/bbs-3.19-bioc/R/bin/R CMD build --keep-empty-dirs --no-resave-data nucleR StartedAt: 2024-10-16 19:50:07 -0400 (Wed, 16 Oct 2024) EndedAt: 2024-10-16 19:51:47 -0400 (Wed, 16 Oct 2024) EllapsedTime: 100.2 seconds RetCode: 0 Status: OK PackageFile: nucleR_2.36.0.tar.gz PackageFileSize: 1.682 MiB