Package: nucleR Version: 2.36.0 Command: /Library/Frameworks/R.framework/Resources/bin/R CMD check --install=check:nucleR.install-out.txt --library=/Library/Frameworks/R.framework/Resources/library --no-vignettes --timings nucleR_2.36.0.tar.gz StartedAt: 2024-10-17 10:10:38 -0400 (Thu, 17 Oct 2024) EndedAt: 2024-10-17 10:21:38 -0400 (Thu, 17 Oct 2024) EllapsedTime: 659.7 seconds RetCode: 0 Status: WARNINGS CheckDir: nucleR.Rcheck Warnings: 1