Package: nucleR Version: 2.36.0 Command: /Library/Frameworks/R.framework/Resources/bin/R CMD check --install=check:nucleR.install-out.txt --library=/Library/Frameworks/R.framework/Resources/library --no-vignettes --timings nucleR_2.36.0.tar.gz StartedAt: 2024-10-18 06:13:00 -0400 (Fri, 18 Oct 2024) EndedAt: 2024-10-18 06:18:27 -0400 (Fri, 18 Oct 2024) EllapsedTime: 327.0 seconds RetCode: 0 Status: WARNINGS CheckDir: nucleR.Rcheck Warnings: 1