Package: nuCpos Version: 1.22.0 Command: chmod a+r nuCpos -R && E:\biocbuild\bbs-3.19-bioc\R\bin\R.exe CMD build --keep-empty-dirs --no-resave-data nuCpos StartedAt: 2024-10-16 20:45:09 -0400 (Wed, 16 Oct 2024) EndedAt: 2024-10-16 20:45:28 -0400 (Wed, 16 Oct 2024) EllapsedTime: 18.7 seconds RetCode: 0 Status: OK PackageFile: nuCpos_1.22.0.tar.gz PackageFileSize: 2.269 MiB