Package: nuCpos Version: 1.22.0 Command: F:\biocbuild\bbs-3.19-bioc\R\bin\R.exe CMD INSTALL nuCpos StartedAt: 2024-06-26 15:39:18 -0400 (Wed, 26 Jun 2024) EndedAt: 2024-06-26 15:39:41 -0400 (Wed, 26 Jun 2024) EllapsedTime: 22.5 seconds RetCode: 0 Status: OK