Package: nuCpos Version: 1.22.0 Command: /Library/Frameworks/R.framework/Resources/bin/R CMD build --keep-empty-dirs --no-resave-data nuCpos StartedAt: 2024-06-10 01:49:31 -0400 (Mon, 10 Jun 2024) EndedAt: 2024-06-10 01:49:55 -0400 (Mon, 10 Jun 2024) EllapsedTime: 24.1 seconds RetCode: 0 Status: OK PackageFile: nuCpos_1.22.0.tar.gz PackageFileSize: 2.391 MiB