Package: nuCpos Version: 1.22.0 Command: rm -rf nuCpos.buildbin-libdir && mkdir nuCpos.buildbin-libdir && /Users/biocbuild/BBS/utils/build-universal.sh nuCpos_1.22.0.tar.gz /Library/Frameworks/R.framework/Resources/bin/R nuCpos.buildbin-libdir StartedAt: 2024-06-11 12:21:48 -0400 (Tue, 11 Jun 2024) EndedAt: 2024-06-11 12:22:05 -0400 (Tue, 11 Jun 2024) EllapsedTime: 16.7 seconds RetCode: 0 Status: OK PackageFile: nuCpos_1.22.0.tgz PackageFileSize: 1.711 MiB