Package: nuCpos Version: 1.22.0 Maintainer: Hiroaki Kato MaintainerEmail: hkato at med.shimane-u.ac.jp git_url: https://git.bioconductor.org/packages/nuCpos git_branch: RELEASE_3_19 git_last_commit: 4f12509 git_last_commit_date: 2024-04-30 11:08:25 -0400 (Tue, 30 Apr 2024)