Package: npGSEA Version: 1.40.0 Command: E:\biocbuild\bbs-3.19-bioc\R\bin\R.exe CMD INSTALL npGSEA StartedAt: 2024-10-16 16:23:33 -0400 (Wed, 16 Oct 2024) EndedAt: 2024-10-16 16:24:04 -0400 (Wed, 16 Oct 2024) EllapsedTime: 30.9 seconds RetCode: 0 Status: OK