Package: npGSEA Version: 1.40.0 Command: E:\biocbuild\bbs-3.19-bioc\R\bin\R.exe CMD check --no-multiarch --install=check:npGSEA.install-out.txt --library=E:\biocbuild\bbs-3.19-bioc\R\library --no-vignettes --timings npGSEA_1.40.0.tar.gz StartedAt: 2024-10-17 04:01:48 -0400 (Thu, 17 Oct 2024) EndedAt: 2024-10-17 04:03:46 -0400 (Thu, 17 Oct 2024) EllapsedTime: 117.8 seconds RetCode: 0 Status: OK CheckDir: npGSEA.Rcheck Warnings: 0