Package: npGSEA Version: 1.40.0 Command: rm -rf npGSEA.buildbin-libdir && mkdir npGSEA.buildbin-libdir && F:\biocbuild\bbs-3.19-bioc\R\bin\R.exe CMD INSTALL --build --library=npGSEA.buildbin-libdir npGSEA_1.40.0.tar.gz StartedAt: 2024-06-27 08:36:29 -0400 (Thu, 27 Jun 2024) EndedAt: 2024-06-27 08:37:08 -0400 (Thu, 27 Jun 2024) EllapsedTime: 39.1 seconds RetCode: 0 Status: OK PackageFile: npGSEA_1.40.0.zip PackageFileSize: 636.5 KiB