Package: npGSEA Version: 1.40.0 Command: /Library/Frameworks/R.framework/Resources/bin/R CMD build --keep-empty-dirs --no-resave-data npGSEA StartedAt: 2024-10-16 21:39:54 -0400 (Wed, 16 Oct 2024) EndedAt: 2024-10-16 21:42:03 -0400 (Wed, 16 Oct 2024) EllapsedTime: 128.5 seconds RetCode: 0 Status: OK PackageFile: npGSEA_1.40.0.tar.gz PackageFileSize: 357.3 KiB