Package: npGSEA Version: 1.40.0 Command: rm -rf npGSEA.buildbin-libdir && mkdir npGSEA.buildbin-libdir && /Users/biocbuild/BBS/utils/build-universal.sh npGSEA_1.40.0.tar.gz /Library/Frameworks/R.framework/Resources/bin/R npGSEA.buildbin-libdir StartedAt: 2024-10-17 16:44:58 -0400 (Thu, 17 Oct 2024) EndedAt: 2024-10-17 16:45:45 -0400 (Thu, 17 Oct 2024) EllapsedTime: 46.7 seconds RetCode: 0 Status: OK PackageFile: npGSEA_1.40.0.tgz PackageFileSize: 696.1 KiB