Package: npGSEA Version: 1.40.0 Command: /Library/Frameworks/R.framework/Resources/bin/R CMD build --keep-empty-dirs --no-resave-data npGSEA StartedAt: 2024-06-09 17:32:51 -0400 (Sun, 09 Jun 2024) EndedAt: 2024-06-09 17:34:01 -0400 (Sun, 09 Jun 2024) EllapsedTime: 69.6 seconds RetCode: 0 Status: OK PackageFile: npGSEA_1.40.0.tar.gz PackageFileSize: 358 KiB