Package: npGSEA Version: 1.40.0 Command: /Library/Frameworks/R.framework/Resources/bin/R CMD INSTALL npGSEA StartedAt: 2024-06-09 15:35:37 -0400 (Sun, 09 Jun 2024) EndedAt: 2024-06-09 15:36:02 -0400 (Sun, 09 Jun 2024) EllapsedTime: 25.4 seconds RetCode: 0 Status: OK