Package: npGSEA Version: 1.40.0 Command: /Library/Frameworks/R.framework/Resources/bin/R CMD build --keep-empty-dirs --no-resave-data npGSEA StartedAt: 2024-06-10 01:48:59 -0400 (Mon, 10 Jun 2024) EndedAt: 2024-06-10 01:49:51 -0400 (Mon, 10 Jun 2024) EllapsedTime: 52.8 seconds RetCode: 0 Status: OK PackageFile: npGSEA_1.40.0.tar.gz PackageFileSize: 357.3 KiB