Package: npGSEA Version: 1.40.0 Command: rm -rf npGSEA.buildbin-libdir && mkdir npGSEA.buildbin-libdir && /Users/biocbuild/BBS/utils/build-universal.sh npGSEA_1.40.0.tar.gz /Library/Frameworks/R.framework/Resources/bin/R npGSEA.buildbin-libdir StartedAt: 2024-06-11 12:21:29 -0400 (Tue, 11 Jun 2024) EndedAt: 2024-06-11 12:22:02 -0400 (Tue, 11 Jun 2024) EllapsedTime: 33.0 seconds RetCode: 0 Status: OK PackageFile: npGSEA_1.40.0.tgz PackageFileSize: 695.4 KiB