Package: normr Version: 1.30.0 Command: E:\biocbuild\bbs-3.19-bioc\R\bin\R.exe CMD INSTALL normr StartedAt: 2024-10-16 16:26:11 -0400 (Wed, 16 Oct 2024) EndedAt: 2024-10-16 16:27:11 -0400 (Wed, 16 Oct 2024) EllapsedTime: 59.6 seconds RetCode: 0 Status: OK