Package: normr Version: 1.30.0 Command: E:\biocbuild\bbs-3.19-bioc\R\bin\R.exe CMD check --no-multiarch --install=check:normr.install-out.txt --library=E:\biocbuild\bbs-3.19-bioc\R\library --no-vignettes --timings normr_1.30.0.tar.gz StartedAt: 2024-10-17 04:01:20 -0400 (Thu, 17 Oct 2024) EndedAt: 2024-10-17 04:06:50 -0400 (Thu, 17 Oct 2024) EllapsedTime: 330.0 seconds RetCode: 0 Status: WARNINGS CheckDir: normr.Rcheck Warnings: 2