Package: normr Version: 1.30.0 Command: /Library/Frameworks/R.framework/Resources/bin/R CMD check --install=check:normr.install-out.txt --library=/Library/Frameworks/R.framework/Resources/library --no-vignettes --timings normr_1.30.0.tar.gz StartedAt: 2024-10-17 10:08:20 -0400 (Thu, 17 Oct 2024) EndedAt: 2024-10-17 10:19:10 -0400 (Thu, 17 Oct 2024) EllapsedTime: 649.2 seconds RetCode: 0 Status: WARNINGS CheckDir: normr.Rcheck Warnings: 1