Package: normr Version: 1.30.0 Command: /Library/Frameworks/R.framework/Resources/bin/R CMD build --keep-empty-dirs --no-resave-data normr StartedAt: 2024-10-16 21:39:24 -0400 (Wed, 16 Oct 2024) EndedAt: 2024-10-16 21:43:26 -0400 (Wed, 16 Oct 2024) EllapsedTime: 241.0 seconds RetCode: 0 Status: OK PackageFile: normr_1.30.0.tar.gz PackageFileSize: 3.76 MiB