Package: normr Version: 1.30.0 Command: rm -rf normr.buildbin-libdir && mkdir normr.buildbin-libdir && /Users/biocbuild/BBS/utils/build-universal.sh normr_1.30.0.tar.gz /Library/Frameworks/R.framework/Resources/bin/R normr.buildbin-libdir StartedAt: 2024-10-17 16:44:48 -0400 (Thu, 17 Oct 2024) EndedAt: 2024-10-17 16:46:42 -0400 (Thu, 17 Oct 2024) EllapsedTime: 114.1 seconds RetCode: 0 Status: OK PackageFile: normr_1.30.0.tgz PackageFileSize: 4.178 MiB