Package: normr Version: 1.30.0 Command: /Library/Frameworks/R.framework/Resources/bin/R CMD check --install=check:normr.install-out.txt --library=/Library/Frameworks/R.framework/Resources/library --no-vignettes --timings normr_1.30.0.tar.gz StartedAt: 2024-10-18 06:11:14 -0400 (Fri, 18 Oct 2024) EndedAt: 2024-10-18 06:16:40 -0400 (Fri, 18 Oct 2024) EllapsedTime: 326.3 seconds RetCode: 0 Status: WARNINGS CheckDir: normr.Rcheck Warnings: 2