Package: normalize450K Version: 1.32.0 Command: rm -rf normalize450K.buildbin-libdir && mkdir normalize450K.buildbin-libdir && E:\biocbuild\bbs-3.19-bioc\R\bin\R.exe CMD INSTALL --build --library=normalize450K.buildbin-libdir normalize450K_1.32.0.tar.gz StartedAt: 2024-10-17 08:16:11 -0400 (Thu, 17 Oct 2024) EndedAt: 2024-10-17 08:16:32 -0400 (Thu, 17 Oct 2024) EllapsedTime: 21.4 seconds RetCode: 0 Status: OK PackageFile: normalize450K_1.32.0.zip PackageFileSize: 3.048 MiB