Package: normalize450K Version: 1.32.0 Command: /home/biocbuild/bbs-3.19-bioc/R/bin/R CMD build --keep-empty-dirs --no-resave-data normalize450K StartedAt: 2024-10-16 19:48:44 -0400 (Wed, 16 Oct 2024) EndedAt: 2024-10-16 19:49:16 -0400 (Wed, 16 Oct 2024) EllapsedTime: 32.1 seconds RetCode: 0 Status: OK PackageFile: normalize450K_1.32.0.tar.gz PackageFileSize: 3.042 MiB