Package: normalize450K Version: 1.32.0 Command: /Library/Frameworks/R.framework/Resources/bin/R CMD check --install=check:normalize450K.install-out.txt --library=/Library/Frameworks/R.framework/Resources/library --no-vignettes --timings normalize450K_1.32.0.tar.gz StartedAt: 2024-10-17 10:07:25 -0400 (Thu, 17 Oct 2024) EndedAt: 2024-10-17 10:08:35 -0400 (Thu, 17 Oct 2024) EllapsedTime: 70.5 seconds RetCode: 0 Status: OK CheckDir: normalize450K.Rcheck Warnings: 0