Package: normalize450K Version: 1.32.0 Command: /home/biocbuild/R/R-beta-2024-04-15_r86425/bin/R CMD check --install=check:normalize450K.install-out.txt --library=/home/biocbuild/R/R-beta-2024-04-15_r86425/site-library --no-vignettes --timings normalize450K_1.32.0.tar.gz StartedAt: 2024-05-09 10:06:46 -0000 (Thu, 09 May 2024) EndedAt: 2024-05-09 10:07:23 -0000 (Thu, 09 May 2024) EllapsedTime: 37.1 seconds RetCode: 0 Status: OK CheckDir: normalize450K.Rcheck Warnings: 0