Package: normalize450K Version: 1.32.0 Command: /home/biocbuild/R/R-beta-2024-04-15_r86425/bin/R CMD build --keep-empty-dirs --no-resave-data normalize450K StartedAt: 2024-05-09 02:09:45 -0000 (Thu, 09 May 2024) EndedAt: 2024-05-09 02:10:13 -0000 (Thu, 09 May 2024) EllapsedTime: 28.1 seconds RetCode: 0 Status: OK PackageFile: normalize450K_1.32.0.tar.gz PackageFileSize: 3.131 MiB