Package: normalize450K Version: 1.32.0 Command: /Library/Frameworks/R.framework/Resources/bin/R CMD check --install=check:normalize450K.install-out.txt --library=/Library/Frameworks/R.framework/Resources/library --no-vignettes --timings normalize450K_1.32.0.tar.gz StartedAt: 2024-06-10 23:56:35 -0400 (Mon, 10 Jun 2024) EndedAt: 2024-06-10 23:57:43 -0400 (Mon, 10 Jun 2024) EllapsedTime: 68.5 seconds RetCode: 0 Status: OK CheckDir: normalize450K.Rcheck Warnings: 0