Package: normalize450K Version: 1.32.0 Command: /Library/Frameworks/R.framework/Resources/bin/R CMD check --install=check:normalize450K.install-out.txt --library=/Library/Frameworks/R.framework/Resources/library --no-vignettes --timings normalize450K_1.32.0.tar.gz StartedAt: 2024-10-18 06:07:33 -0400 (Fri, 18 Oct 2024) EndedAt: 2024-10-18 06:08:14 -0400 (Fri, 18 Oct 2024) EllapsedTime: 40.8 seconds RetCode: 0 Status: OK CheckDir: normalize450K.Rcheck Warnings: 0