Package: normalize450K Version: 1.32.0 Command: rm -rf normalize450K.buildbin-libdir && mkdir normalize450K.buildbin-libdir && /Users/biocbuild/BBS/utils/build-universal.sh normalize450K_1.32.0.tar.gz /Library/Frameworks/R.framework/Resources/bin/R normalize450K.buildbin-libdir StartedAt: 2024-10-18 19:46:27 -0400 (Fri, 18 Oct 2024) EndedAt: 2024-10-18 19:47:03 -0400 (Fri, 18 Oct 2024) EllapsedTime: 36.7 seconds RetCode: 0 Status: OK PackageFile: normalize450K_1.32.0.tgz PackageFileSize: 3.138 MiB