Package: normalize450K Version: 1.32.0 Maintainer: Jonathan Alexander Heiss MaintainerEmail: jonathan.heiss at posteo.de git_url: https://git.bioconductor.org/packages/normalize450K git_branch: RELEASE_3_19 git_last_commit: 85689ec git_last_commit_date: 2024-04-30 10:47:07 -0400 (Tue, 30 Apr 2024)