Package: nondetects Version: 2.34.0 Command: rm -rf nondetects.buildbin-libdir && mkdir nondetects.buildbin-libdir && F:\biocbuild\bbs-3.19-bioc\R\bin\R.exe CMD INSTALL --build --library=nondetects.buildbin-libdir nondetects_2.34.0.tar.gz StartedAt: 2024-06-27 08:36:14 -0400 (Thu, 27 Jun 2024) EndedAt: 2024-06-27 08:36:29 -0400 (Thu, 27 Jun 2024) EllapsedTime: 15.2 seconds RetCode: 0 Status: OK PackageFile: nondetects_2.34.0.zip PackageFileSize: 153.3 KiB