Package: nondetects Version: 2.34.0 Command: /Library/Frameworks/R.framework/Resources/bin/R CMD build --keep-empty-dirs --no-resave-data nondetects StartedAt: 2024-10-16 21:36:52 -0400 (Wed, 16 Oct 2024) EndedAt: 2024-10-16 21:46:08 -0400 (Wed, 16 Oct 2024) EllapsedTime: 555.7 seconds RetCode: 0 Status: OK PackageFile: nondetects_2.34.0.tar.gz PackageFileSize: 136.4 KiB