Package: nondetects Version: 2.34.0 Command: /home/biocbuild/R/R-beta-2024-04-15_r86425/bin/R CMD check --install=check:nondetects.install-out.txt --library=/home/biocbuild/R/R-beta-2024-04-15_r86425/site-library --no-vignettes --timings nondetects_2.34.0.tar.gz StartedAt: 2024-05-09 10:05:27 -0000 (Thu, 09 May 2024) EndedAt: 2024-05-09 10:14:55 -0000 (Thu, 09 May 2024) EllapsedTime: 568.0 seconds RetCode: 0 Status: OK CheckDir: nondetects.Rcheck Warnings: 0