Package: nondetects Version: 2.34.0 Command: /home/biocbuild/R/R-beta-2024-04-15_r86425/bin/R CMD build --keep-empty-dirs --no-resave-data nondetects StartedAt: 2024-05-09 02:09:13 -0000 (Thu, 09 May 2024) EndedAt: 2024-05-09 02:13:38 -0000 (Thu, 09 May 2024) EllapsedTime: 265.5 seconds RetCode: 0 Status: OK PackageFile: nondetects_2.34.0.tar.gz PackageFileSize: 116.6 KiB