Package: nondetects Version: 2.34.0 Command: /Library/Frameworks/R.framework/Resources/bin/R CMD check --install=check:nondetects.install-out.txt --library=/Library/Frameworks/R.framework/Resources/library --no-vignettes --timings nondetects_2.34.0.tar.gz StartedAt: 2024-06-10 23:55:48 -0400 (Mon, 10 Jun 2024) EndedAt: 2024-06-11 00:05:08 -0400 (Tue, 11 Jun 2024) EllapsedTime: 560.3 seconds RetCode: 0 Status: OK CheckDir: nondetects.Rcheck Warnings: 0