Package: nondetects Version: 2.34.0 Command: /Library/Frameworks/R.framework/Resources/bin/R CMD build --keep-empty-dirs --no-resave-data nondetects StartedAt: 2024-06-10 01:46:11 -0400 (Mon, 10 Jun 2024) EndedAt: 2024-06-10 01:48:59 -0400 (Mon, 10 Jun 2024) EllapsedTime: 168.1 seconds RetCode: 0 Status: OK PackageFile: nondetects_2.34.0.tar.gz PackageFileSize: 136.6 KiB