Package: nondetects Version: 2.34.0 Command: rm -rf nondetects.buildbin-libdir && mkdir nondetects.buildbin-libdir && /Users/biocbuild/BBS/utils/build-universal.sh nondetects_2.34.0.tar.gz /Library/Frameworks/R.framework/Resources/bin/R nondetects.buildbin-libdir StartedAt: 2024-10-18 19:46:15 -0400 (Fri, 18 Oct 2024) EndedAt: 2024-10-18 19:46:29 -0400 (Fri, 18 Oct 2024) EllapsedTime: 13.7 seconds RetCode: 0 Status: OK PackageFile: nondetects_2.34.0.tgz PackageFileSize: 172.1 KiB