Package: nnSVG Version: 1.8.0 Command: E:\biocbuild\bbs-3.19-bioc\R\bin\R.exe CMD INSTALL nnSVG StartedAt: 2024-10-16 16:27:03 -0400 (Wed, 16 Oct 2024) EndedAt: 2024-10-16 16:27:29 -0400 (Wed, 16 Oct 2024) EllapsedTime: 26.8 seconds RetCode: 0 Status: OK